BEGIN:VCALENDAR
VERSION:2.0
PRODID:SchoolNow
CALSCALE:GREGORIAN
BEGIN:VEVENT
UID:4545c2f0-2ec8-11f1-bab6-0a58a9feac02
DTSTAMP:20260420T070011Z
SUMMARY:Unused Snow Day- NO SCHOOL
URL;VALUE=URI:https://www.uticaschools.org/schools/donovan/calendar/8966182
 /unused-snow-day-no-school
DTSTART;VALUE=DATE:20260522
DTEND;VALUE=DATE:20260523
END:VEVENT
END:VCALENDAR
