BEGIN:VCALENDAR
VERSION:2.0
PRODID:SchoolNow
CALSCALE:GREGORIAN
BEGIN:VEVENT
UID:63989342-2c64-11f1-a53b-0a58a9feac02
DTSTAMP:20260424T142512Z
SUMMARY:NO SCHOOL
URL;VALUE=URI:https://www.uticaschools.org/schools/kernan/calendar/8957926/
 no-school
DTSTART;VALUE=DATE:20260413
DTEND;VALUE=DATE:20260414
END:VEVENT
END:VCALENDAR
